BEGIN:VCALENDAR
VERSION:2.0
PRODID:-//Somalia Investment Promotion Office - ECPv6.3.3.1//NONSGML v1.0//EN
CALSCALE:GREGORIAN
METHOD:PUBLISH
X-WR-CALNAME:Somalia Investment Promotion Office
X-ORIGINAL-URL:https://sominvest.gov.so
X-WR-CALDESC:Events for Somalia Investment Promotion Office
REFRESH-INTERVAL;VALUE=DURATION:PT1H
X-Robots-Tag:noindex
X-PUBLISHED-TTL:PT1H
BEGIN:VTIMEZONE
TZID:UTC
BEGIN:STANDARD
TZOFFSETFROM:+0000
TZOFFSETTO:+0000
TZNAME:UTC
DTSTART:20200101T000000
END:STANDARD
TZID:Europe/Moscow
BEGIN:STANDARD
TZOFFSETFROM:+0300
TZOFFSETTO:+0300
TZNAME:MSK
DTSTART:20220101T000000
END:STANDARD
TZID:Africa/Nairobi
BEGIN:STANDARD
TZOFFSETFROM:+0300
TZOFFSETTO:+0300
TZNAME:EAT
DTSTART:20200101T000000
END:STANDARD
END:VTIMEZONE
BEGIN:VEVENT
DTSTART;TZID=UTC:20241219T080000
DTEND;TZID=UTC:20241219T170000
DTSTAMP:20260423T230806
CREATED:20241211T064208Z
LAST-MODIFIED:20241211T064410Z
UID:6274-1734595200-1734627600@sominvest.gov.so
SUMMARY:Launch Event for the 𝐍𝐞𝐰 𝐌𝐨𝐠𝐚𝐝𝐢𝐬𝐡𝐮 𝐃𝐞𝐯𝐞𝐥𝐨𝐩𝐦𝐞𝐧𝐭 𝐂𝐨𝐫𝐩𝐨𝐫𝐚𝐭𝐢𝐨𝐧 and the official unveiling of the 𝗡𝗲𝘄 𝗠𝗼𝗴𝗮𝗱𝗶𝘀𝗵𝘂 𝗜𝗻𝘁𝗲𝗿𝗻𝗮𝘁𝗶𝗼𝗻𝗮𝗹 𝗔𝗶𝗿𝗽𝗼𝗿𝘁!
DESCRIPTION:𝗢𝗳𝗳𝗶𝗰𝗶𝗮𝗹 𝗟𝗮𝘂𝗻𝗰𝗵 𝗘𝘃𝗲𝗻𝘁 𝗔𝗻𝗻𝗼𝘂𝗻𝗰𝗲𝗺𝗲𝗻𝘁\nWe are excited to announce the Launch Event for the 𝐍𝐞𝐰 𝐌𝐨𝐠𝐚𝐝𝐢𝐬𝐡𝐮 𝐃𝐞𝐯𝐞𝐥𝐨𝐩𝐦𝐞𝐧𝐭 𝐂𝐨𝐫𝐩𝐨𝐫𝐚𝐭𝐢𝐨𝐧 and the official unveiling of the 𝗡𝗲𝘄 𝗠𝗼𝗴𝗮𝗱𝗶𝘀𝗵𝘂 𝗜𝗻𝘁𝗲𝗿𝗻𝗮𝘁𝗶𝗼𝗻𝗮𝗹 𝗔𝗶𝗿𝗽𝗼𝗿𝘁!\n\n\nThis groundbreaking occasion will highlight Somalia’s dedication to innovative infrastructure\, sustainable economic growth\, and enhanced global connectivity.\n\n\n Date: 𝟏𝟗𝐭𝐡 𝐃𝐞𝐜𝐞𝐦𝐛𝐞𝐫 𝟐𝟎𝟐𝟒\n Venue: Hangar\, Aden Adde International Airport (AAIA)\, Mogadishu\, Somalia\n\n\n Be part of this historic moment and witness the future unfold!
URL:https://sominvest.gov.so/event/launch-event-for-the-%f0%9d%90%8d%f0%9d%90%9e%f0%9d%90%b0-%f0%9d%90%8c%f0%9d%90%a8%f0%9d%90%a0%f0%9d%90%9a%f0%9d%90%9d%f0%9d%90%a2%f0%9d%90%ac%f0%9d%90%a1%f0%9d%90%ae-%f0%9d%90%83%f0%9d%90%9e/
LOCATION:Aden Adde International Airport (AAIA) Conference Facility\, Mogadishu – Somalia.\, Aden Adde International Airport (AAIA) Conference Facility\, Mogadishu\, Somalia
ATTACH;FMTTYPE=image/png:https://sominvest.gov.so/wp-content/uploads/FB-Post-03.png
END:VEVENT
BEGIN:VEVENT
DTSTART;TZID=UTC:20240424T080000
DTEND;TZID=UTC:20240425T170000
DTSTAMP:20260423T230806
CREATED:20240418T062604Z
LAST-MODIFIED:20240418T062715Z
UID:6253-1713945600-1714064400@sominvest.gov.so
SUMMARY:𝐈𝐧𝐯𝐞𝐬𝐭 Somalia 𝐂𝐨𝐧𝐟𝐞𝐫𝐞𝐧𝐜𝐞 & 𝐄𝐱𝐩𝐨
DESCRIPTION:The Ministry of Planning\, Investment and Economic Development of the Federal Government of Somalia takes the pleasure of inviting domestic investors to the 𝐈𝐧𝐯𝐞𝐬𝐭 Somalia 𝐂𝐨𝐧𝐟𝐞𝐫𝐞𝐧𝐜𝐞 & 𝐄𝐱𝐩𝐨 which will take place in April 24 -25\, 2024\, at Aden Adde International Airport (AAIA) Conference Facility\, Mogadishu – Somalia. \nThe theme of the conference is “𝗦𝗼𝗺𝗮𝗹𝗶𝗮 𝗥𝗶𝘀𝗶𝗻𝗴: 𝗧𝗵𝗲 𝗡𝗲𝘄 𝗙𝗿𝗼𝗻𝘁𝗶𝗲𝗿 𝗳𝗼𝗿 𝗘𝗻𝘁𝗿𝗲𝗽𝗿𝗲𝗻𝗲𝘂𝗿𝘀𝗵𝗶𝗽 & 𝗜𝗻𝘃𝗲𝘀𝘁𝗺𝗲𝗻𝘁𝘀.” \nStay tuned for upcoming updates!
URL:https://sominvest.gov.so/event/%f0%9d%90%88%f0%9d%90%a7%f0%9d%90%af%f0%9d%90%9e%f0%9d%90%ac%f0%9d%90%ad-somalia-%f0%9d%90%82%f0%9d%90%a8%f0%9d%90%a7%f0%9d%90%9f%f0%9d%90%9e%f0%9d%90%ab%f0%9d%90%9e%f0%9d%90%a7%f0%9d%90%9c/
LOCATION:Aden Adde International Airport (AAIA) Conference Facility\, Mogadishu – Somalia.\, Aden Adde International Airport (AAIA) Conference Facility\, Mogadishu\, Somalia
ATTACH;FMTTYPE=image/png:https://sominvest.gov.so/wp-content/uploads/Announcement-Poster-01.png
END:VEVENT
BEGIN:VEVENT
DTSTART;TZID=UTC:20221128T080000
DTEND;TZID=UTC:20221129T170000
DTSTAMP:20260423T230806
CREATED:20221025T070030Z
LAST-MODIFIED:20221025T070030Z
UID:6220-1669622400-1669741200@sominvest.gov.so
SUMMARY:Somalia International Investment Conference
DESCRIPTION:The first Somalia International Investment Conference will provide an opportunity for the Somalia government to showcase investment opportunities\, sectoral studies\, and the general business and investment climate in Somalia to the world. In this platform\, both the Somalia government and the private sector wish to engage potential investors and share progress made in improving the business environment\, the legislative drive that guarantees investments protection in its journey towards socio-economic and political recovery\, strengthening the economic development institutions\, and unlocking the potential and entrepreneurship spirit of the Somali people. \n\n\n\n\nSomalia has enormous resources and this conference will send a clear and loud message to the world that Somalia is open for business and investment. Somalia is positioning itself as an investment destination and a valuable trade partner. This conference\, therefore\, will unveil potentially unique investment cases and sectors so that investors could explore such opportunities for further feasibility studies and investment consideration. \n\n\n\n\nThe President of the Federal Republic of Somalia\, H.E. Hassan Sheikh Mohamud is expected to officially kick off the conference. The Minister of Planning\, Investment and Economic Development of Somalia will also join the heads of state\, investors\, and other dignitaries in this event and later host a cocktail reception for investors and delegations.
URL:https://sominvest.gov.so/event/somalia-international-investment-conference/
LOCATION:Mogadishu\, Federal Republic of Somalia\, Hussein Elabe Fahie Building\, Afgooye Road-KM5\, Mogadishu\, Benadir\, +252\, Somalia
CATEGORIES:Upcoming Events
ATTACH;FMTTYPE=image/png:https://sominvest.gov.so/wp-content/uploads/English-.png
ORGANIZER;CN="SOMINVEST Team":MAILTO:info@sominvest.com.so
END:VEVENT
BEGIN:VEVENT
DTSTART;TZID=UTC:20220913T080000
DTEND;TZID=UTC:20220914T170000
DTSTAMP:20260423T230806
CREATED:20220728T172823Z
LAST-MODIFIED:20220728T173948Z
UID:6194-1663056000-1663174800@sominvest.gov.so
SUMMARY:26th World Investment Conference
DESCRIPTION:Hosted since 1995\, the WAIPA World Investment Conference (WIC) is a forum where IPAs convene to address current economic and social issues that may affect global investment flows and other strategic and policy considerations. The Conference includes formal panel presentations\, ample networking opportunities and social events for the members. Past panelists include global and business leaders\, along with other influencers like economists and members of academia. The topics of the panels are selected based on current events and trends.
URL:https://sominvest.gov.so/event/26th-world-investment-conference/
LOCATION:International Conference Center Geneva\, Rue de Varembé 17\, 1202\, Genève\, Switzerland
CATEGORIES:Upcoming Events
ATTACH;FMTTYPE=image/jpeg:https://sominvest.gov.so/wp-content/uploads/WIC_22_banner6_register.jpg
END:VEVENT
BEGIN:VEVENT
DTSTART;TZID=Europe/Moscow:20220808T080000
DTEND;TZID=Europe/Moscow:20220809T170000
DTSTAMP:20260423T230806
CREATED:20220726T065213Z
LAST-MODIFIED:20220726T072928Z
UID:6167-1659945600-1660064400@sominvest.gov.so
SUMMARY:Somalia-Uganda Investment and Business Summit
DESCRIPTION:The Uganda-Somalia Investment and Business Summit is being organized under the theme “Promoting Uganda- Somalia Partnership through Investment\, Trade\, and Tourism”. \nBenefits of summit\n1. Joint permanent commission to strengthen cooperation between Uganda and Somalia\n2. Disseminate and raise awareness on investment\, trade and tourism opportunities\n3. Deepen access to market\n4. Matchmaking and creating JVs between Somali and Uganda businesses\n5. Address any residue non tariff barriers hindering trade and investment between Somali and Uganda\n6. Establish investment and Business council
URL:https://sominvest.gov.so/event/somalia-uganda-investment-and-business-summit/
LOCATION:The Investment Center\, Kampala Industrial and Business Park\, kampla\, Uganda
CATEGORIES:Upcoming Events
ATTACH;FMTTYPE=image/jpeg:https://sominvest.gov.so/wp-content/uploads/Somali-Uganda-investment.jpeg
END:VEVENT
BEGIN:VEVENT
DTSTART;TZID=UTC:20201215T160000
DTEND;TZID=UTC:20201215T160000
DTSTAMP:20260423T230806
CREATED:20200216T120023Z
LAST-MODIFIED:20201211T082109Z
UID:325-1608048000-1608048000@sominvest.gov.so
SUMMARY:INVEST IN SOMALIA ENERGY PLATFORM
DESCRIPTION:the Ministry of Planning\, Investment\, and Economic Development (MOIPED) and the Ministry of Energy and Water Resources are pleased to invite you to the Invest in Somalia Energy Platform (virtual) Briefing on December the 14th from 4-6 pm local time in Somalia.
URL:https://sominvest.gov.so/event/somalia-jordan-banking-and-financial-sector/
LOCATION:Mogadishu\, Federal Republic of Somalia\, Hussein Elabe Fahie Building\, Afgooye Road-KM5\, Mogadishu\, Benadir\, +252\, Somalia
CATEGORIES:Featured Events,Upcoming Events
ATTACH;FMTTYPE=image/jpeg:https://sominvest.gov.so/wp-content/uploads/IMG_3401-scaled.jpg
ORGANIZER;CN="Ministry of Planning%2C Investment and Economic Development":MAILTO:investment@mop.gov.so
END:VEVENT
BEGIN:VEVENT
DTSTART;TZID=Africa/Nairobi:20201207T000000
DTEND;TZID=Africa/Nairobi:20201207T133000
DTSTAMP:20260423T230806
CREATED:20200216T081446Z
LAST-MODIFIED:20201204T021722Z
UID:262-1607299200-1607347800@sominvest.gov.so
SUMMARY:WAIPA Annual General Assembly
DESCRIPTION:
URL:https://sominvest.gov.so/event/investment-for-africa-forum/
LOCATION:Mogadishu\, Federal Republic of Somalia\, Hussein Elabe Fahie Building\, Afgooye Road-KM5\, Mogadishu\, Benadir\, +252\, Somalia
CATEGORIES:Upcoming Events
ATTACH;FMTTYPE=image/jpeg:https://sominvest.gov.so/wp-content/uploads/waipa-banner-slider-scaled.jpg
END:VEVENT
END:VCALENDAR